BEGIN:VCALENDAR
VERSION:2.0
PRODID:-//WSU Tree Fruit - ECPv5.4.0.1//NONSGML v1.0//EN
CALSCALE:GREGORIAN
METHOD:PUBLISH
X-WR-CALNAME:WSU Tree Fruit
X-ORIGINAL-URL:https://treefruit.wsu.edu
X-WR-CALDESC:Events for WSU Tree Fruit
BEGIN:VTIMEZONE
TZID:America/Los_Angeles
BEGIN:DAYLIGHT
TZOFFSETFROM:-0800
TZOFFSETTO:-0700
TZNAME:PDT
DTSTART:20260308T100000
END:DAYLIGHT
BEGIN:STANDARD
TZOFFSETFROM:-0700
TZOFFSETTO:-0800
TZNAME:PST
DTSTART:20261101T090000
END:STANDARD
END:VTIMEZONE
BEGIN:VEVENT
DTSTART;TZID=America/Los_Angeles:20260112T120000
DTEND;TZID=America/Los_Angeles:20260112T130000
DTSTAMP:20260422T001733
CREATED:20251215T202806Z
LAST-MODIFIED:20260109T192423Z
UID:42716-1768219200-1768222800@treefruit.wsu.edu
SUMMARY:Artificial Intelligence: What it can do\, where it is going\, and key opportunities for agriculture
DESCRIPTION:Learn AI basics\, how agriculture drives AI innovation\, and how AI is reshaping farming from reactive to proactive operations. \nSpeakers: \n\n\nOren Etzioni\, Technical Director\, AI2 Incubator; Professor Emeritus\, University of Washington\nAnanth Kalyanaraman\, Professor and Director\, School of Electrical Engineering and Computer Science\, Washington State University; Director\, NSF-USDA NIFA AgAID AI Institute\n\n\nClick here to learn more: https://washacad.org/growing-with-ai/
URL:https://treefruit.wsu.edu/event/42716/
LOCATION:Zoom Webinar
END:VEVENT
END:VCALENDAR