BEGIN:VCALENDAR
VERSION:2.0
PRODID:-//WSU Tree Fruit - ECPv5.4.0.1//NONSGML v1.0//EN
CALSCALE:GREGORIAN
METHOD:PUBLISH
X-WR-CALNAME:WSU Tree Fruit
X-ORIGINAL-URL:https://treefruit.wsu.edu
X-WR-CALDESC:Events for WSU Tree Fruit
BEGIN:VTIMEZONE
TZID:America/Los_Angeles
BEGIN:DAYLIGHT
TZOFFSETFROM:-0800
TZOFFSETTO:-0700
TZNAME:PDT
DTSTART:20260308T100000
END:DAYLIGHT
BEGIN:STANDARD
TZOFFSETFROM:-0700
TZOFFSETTO:-0800
TZNAME:PST
DTSTART:20261101T090000
END:STANDARD
END:VTIMEZONE
BEGIN:VEVENT
DTSTART;TZID=America/Los_Angeles:20260128T170000
DTEND;TZID=America/Los_Angeles:20260128T190000
DTSTAMP:20260424T132240
CREATED:20260113T174734Z
LAST-MODIFIED:20260113T175633Z
UID:42896-1769619600-1769626800@treefruit.wsu.edu
SUMMARY:Columbia Basin Tree Fruit Club
DESCRIPTION:Columbia Basin Tree Fruit Club\n  \nHello everyone!. Join our first 2026 club meeting where Dr. Claire Murphy\, Assistant Professor and Food Safety Extension Specialist\, WSU School of Food Science will talk about  “Applied Research and Extension Updates in Tree Fruit Food Safety“. \nVenue:\nCountry Gentleman Restaurant in Kennewick\n9221 W Clearwater Ave\, Kennewick\, WA 99336 \nWhen:\nWednesday\, January 28th\n5:00pm social\, 5:30pm presentation and discussion \nIf you want to receive email invitations to the club meetings\, please add Columbia Basin Tree Fruit Club in your subscription preferences. \nWe hope to see you there! \nColumbia Basin Tree Fruit Club
URL:https://treefruit.wsu.edu/event/columbia-basin-tree-fruit-club/
LOCATION:Country Gentleman\, 9221 W Clearwater Ave\, Kennewick\, 99336\, United States
ORGANIZER;CN="Bernardita%20%20Sallato":MAILTO:b.sallato@wsu.edu
GEO:46.2052455;-119.246141
X-APPLE-STRUCTURED-LOCATION;VALUE=URI;X-ADDRESS=Country Gentleman 9221 W Clearwater Ave Kennewick 99336 United States;X-APPLE-RADIUS=500;X-TITLE=9221 W Clearwater Ave:geo:-119.246141,46.2052455
END:VEVENT
END:VCALENDAR