BEGIN:VCALENDAR
VERSION:2.0
PRODID:-//WSU Tree Fruit - ECPv5.4.0.1//NONSGML v1.0//EN
CALSCALE:GREGORIAN
METHOD:PUBLISH
X-WR-CALNAME:WSU Tree Fruit
X-ORIGINAL-URL:https://treefruit.wsu.edu
X-WR-CALDESC:Events for WSU Tree Fruit
BEGIN:VTIMEZONE
TZID:America/Los_Angeles
BEGIN:DAYLIGHT
TZOFFSETFROM:-0800
TZOFFSETTO:-0700
TZNAME:PDT
DTSTART:20260308T100000
END:DAYLIGHT
BEGIN:STANDARD
TZOFFSETFROM:-0700
TZOFFSETTO:-0800
TZNAME:PST
DTSTART:20261101T090000
END:STANDARD
END:VTIMEZONE
BEGIN:VEVENT
DTSTART;TZID=America/Los_Angeles:20260417T100000
DTEND;TZID=America/Los_Angeles:20260417T233000
DTSTAMP:20260421T050612
CREATED:20260413T235855Z
LAST-MODIFIED:20260413T235855Z
UID:43514-1776420000-1776468600@treefruit.wsu.edu
SUMMARY:Impact of Irrigation and Heat Stress Automation on Fruit Quality and Water Use Efficiency
DESCRIPTION:Join us for a hands-on\, in-orchard workshop with Dr. Lav Khot\, Bernardita Sallato\, and Dr. Srikanth Gorthi at Sam Godwin’s Orchard! \nLearn how irrigation and heat stress automation impacted fruit quality and water use efficiency in the WSU Smart Apple Orchard. \nDuring this interactive session\, you’ll hear about the latest results but also see the technology in place. We’ll walk through the newly installed system at Sam’s Orchard\, giving you a close-up look at the tools and instrumentation\, visualization and decision making. \n\nCoffee and doughnuts will be provided—we hope to see you there! \n\n\nWhen: Friday 17th at 10:00 AM \nWhere: 12 Utzinger Rd\, Tonasket\, WA 98855\n\n\n\nFor additional information contact\,\n\n\nDattatray Bhalekar\nExtension Educator\nTree Fruit Horticulture Technology\nProsser\, IAREC – CPAAS\ndattatray.bhalekar@wsu.edu\n(509) 778-8646
URL:https://treefruit.wsu.edu/event/impact-of-irrigation-and-heat-stress-automation-on-fruit-quality-and-water-use-efficiency/
LOCATION:12 Utzinger Rd\, Tonasket\, WA 98855\, 12 Utzinger Rd\, Tonasket\, WA\, 98855\, United States
GEO:48.7637401;-119.426546
X-APPLE-STRUCTURED-LOCATION;VALUE=URI;X-ADDRESS=12 Utzinger Rd Tonasket WA 98855 12 Utzinger Rd Tonasket WA 98855 United States;X-APPLE-RADIUS=500;X-TITLE=12 Utzinger Rd:geo:-119.426546,48.7637401
END:VEVENT
END:VCALENDAR